BEGIN:VCALENDAR
VERSION:2.0
PRODID:-//eventon.com NONSGML v1.0//EN
CALSCALE:GREGORIAN
METHOD:PUBLISH
BEGIN:VEVENT
UID:69e544381120f
DTSTAMP:20260419T210808Z
DTSTART:20170826T070000Z
DTEND:20170826T090000Z
LOCATION:Seashell Stage 180 Ocean Boulevard
SUMMARY:Hampton Beach Talent Competition – Seniors
DESCRIPTION:For both Junior's And Senior's Sunday August 27th Contestants w
 ill mail an audition tape\,  photograph and a brief biography and shirt siz
 e to: Glen French Seashell Entertainment PO Box 442 Hampton NH 03843 Email 
 Us All entries must be post marked no later than August 4th\,  2017 The eve
 ning of[..]\nhttps://hamptonbeach.org/event-listing/hampton-beach-talent-co
 mpetition-seniors/
URL:https://hamptonbeach.org/event-listing/hampton-beach-talent-competition-seniors/
END:VEVENT
END:VCALENDAR