BEGIN:VCALENDAR
VERSION:2.0
PRODID:-//eventon.com NONSGML v1.0//EN
CALSCALE:GREGORIAN
METHOD:PUBLISH
BEGIN:VEVENT
UID:69ecea2c14d6c
DTSTAMP:20260425T162204Z
DTSTART:20170326
DTEND:20170327
LOCATION:Ocean Boulevard Ocean Boulevard
SUMMARY:22nd Annual Eastern States 20 Mile &  18th Annual Run for the Border Half Marathon
DESCRIPTION:Kittery\,  Maine to Salisbury\,  Massachusetts along the specta
 cular New Hampshire Seacoast. Seven towns\,  three states - all in one race
 ! Running The Boston Marathon? The Eastern States is a great final training
  run! Designed as a pre-Boston Marathon training race\,  the Eastern States
  20 Mile (formerly Border to Border) Race[..]\nhttps://hamptonbeach.org/eve
 nt-listing/22nd-annual-eastern-states-20-mile-18th-annual-run-for-the-borde
 r-half-marathon/
URL:https://hamptonbeach.org/event-listing/22nd-annual-eastern-states-20-mile-18th-annual-run-for-the-border-half-marathon/
END:VEVENT
END:VCALENDAR