BEGIN:VCALENDAR
VERSION:2.0
PRODID:-//eventon.com NONSGML v1.0//EN
CALSCALE:GREGORIAN
METHOD:PUBLISH
BEGIN:VEVENT
UID:69e608c8bb609
DTSTAMP:20260420T110648Z
DTSTART:20170923
DTEND:20170924
LOCATION:Ocean Boulevard Ocean Boulevard
SUMMARY:Granite State Wheelmen Tri-State Seacoast Century
DESCRIPTION:Our 44th Annual Seacoast Century Weekend is September 22-24\,  
 2017. With the summer weather arriving\,  it is time to sign up for the Cen
 tury this fall. Here's the link to register: https://www.bikereg.com/seacoa
 st-century . One registration fee covers two days of riding. Early registra
 tion is $50 for adults and $25 for[..]\nhttps://hamptonbeach.org/event-list
 ing/granite-state-wheelmen-tri-state-seacoast-century/
URL:https://hamptonbeach.org/event-listing/granite-state-wheelmen-tri-state-seacoast-century/
END:VEVENT
END:VCALENDAR