BEGIN:VCALENDAR
VERSION:2.0
PRODID:-//eventon.com NONSGML v1.0//EN
CALSCALE:GREGORIAN
METHOD:PUBLISH
BEGIN:VEVENT
UID:69eb0981846d4
DTSTAMP:20260424T061113Z
DTSTART:20190620
DTEND:20190621
LOCATION:on the beach 170 Ocean Boulevard\,  Hampton\,  NH
SUMMARY:19th Annual Master Sand Sculpting Classic
DESCRIPTION:19th Annual Hampton Beach Master Sand Sculpting Classic June 2
 0-21-22\,  2019 The fun starts Friday\,  June 13th\,  2019 when 200 tons of
  imported sand is dropped on Hampton Beach and the “Grady Bunch” starts
  pounding up the sponsor site. The entire area is illuminated for night vi
 ewing through June 27. Watch Greg[..]\nhttps://hamptonbeach.org/event-listi
 ng/19th-annual-master-sand-sculpting-classic/
URL:https://hamptonbeach.org/event-listing/19th-annual-master-sand-sculpting-classic/
END:VEVENT
END:VCALENDAR