BEGIN:VCALENDAR
VERSION:2.0
PRODID:-//eventon.com NONSGML v1.0//EN
CALSCALE:GREGORIAN
METHOD:PUBLISH
BEGIN:VEVENT
UID:69e5ef935d09f
DTSTAMP:20260420T091915Z
DTSTART:20190805T080000Z
DTEND:20190805T110000Z
LOCATION:On the beach across from the Playground Route 1A\,  Hampton\,  NH\,  USA
SUMMARY:Monday Night Movies on the Beach
DESCRIPTION:Fun Family Entertainment. All for Free! An evening under the st
 ars on our 5 star beach. Weather permitting. Make this summer season one yo
 ur family will not forget! On Monday nights throughout the summer\,  the Ha
 mpton Beach Village District hosts FREE 'Monday Night Movies on the Beach.'
  Each week\,  a[..]\nhttps://hamptonbeach.org/event-listing/monday-night-mo
 vies-on-the-beach-4/
URL:https://hamptonbeach.org/event-listing/monday-night-movies-on-the-beach-4/
END:VEVENT
END:VCALENDAR