BEGIN:VCALENDAR
VERSION:2.0
PRODID:-//eventon.com NONSGML v1.0//EN
CALSCALE:GREGORIAN
METHOD:PUBLISH
BEGIN:VEVENT
UID:69e4f50eadd8c
DTSTAMP:20260419T153022Z
DTSTART:20190710
DTEND:20190711
LOCATION:Seashell Stage 180 Ocean Boulevard
SUMMARY:2nd Annual “Country by the Coast”- Country Music Week
DESCRIPTION:2nd Annual Country By the Coast: from Nashville to Hampton Beac
 h A whole week of Country Music at Hampton Beach! Headliner William Michael
  Morgan to perform on Thursday\,  July 11\,  2019. Schedule: TBA\nhttps://h
 amptonbeach.org/event-listing/2nd-annual-country-by-the-coast-country-music
 -week/
URL:https://hamptonbeach.org/event-listing/2nd-annual-country-by-the-coast-country-music-week/
END:VEVENT
END:VCALENDAR