BEGIN:VCALENDAR
VERSION:2.0
PRODID:-//eventon.com NONSGML v1.0//EN
CALSCALE:GREGORIAN
METHOD:PUBLISH
BEGIN:VEVENT
UID:69e5d6bfdd8d8
DTSTAMP:20260420T073319Z
DTSTART:20200903
DTEND:20200904
LOCATION:On the beach near the stage Route 1A\,  Hampton\,  NH\,  USA
SUMMARY:20th Annual Hampton Beach Sand Sculpting Classic
DESCRIPTION:20th Annual Hampton Beach Sand Sculpting Classic September 3-5\
 ,  2020 (check for updated schedule due to Covid-19 outbreak) The fun start
 s Thursday\,  August 27th\,  2020 when 200 tons of imported sand is dropped
  on Hampton Beach and the “Grady Bunch” starts pounding up the sponsor 
 site. The entire area is[..]\nhttps://hamptonbeach.org/event-listing/20th-a
 nnual-hampton-beach-sand-sculpting-classic/
URL:https://hamptonbeach.org/event-listing/20th-annual-hampton-beach-sand-sculpting-classic/
END:VEVENT
END:VCALENDAR