BEGIN:VCALENDAR
VERSION:2.0
PRODID:-//eventon.com NONSGML v1.0//EN
CALSCALE:GREGORIAN
METHOD:PUBLISH
BEGIN:VEVENT
UID:69ecaf6b8be24
DTSTAMP:20260425T121123Z
DTSTART:20260721T230000Z
DTEND:20260722T013000Z
LOCATION:Seashell Stage 180 Ocean Boulevard
SUMMARY:Live Music on the Seashell Stage: Bennie and the Jets
DESCRIPTION:Don't miss Bennie and the Jets\,  a Tribute to the one and only
  Elton John! Hampton Beach offers nightly entertainment during the summer o
 n our Seashell Stage. Come down and get nostalgic with the music of your ge
 neration\,  discover a new band\,  or take a line dance lesson on Thursdays
 [..]\nhttps://hamptonbeach.org/event-listing/live-music-on-the-seashell-sta
 ge-the-rat-pack/
URL:https://hamptonbeach.org/event-listing/live-music-on-the-seashell-stage-the-rat-pack/
END:VEVENT
END:VCALENDAR