BEGIN:VCALENDAR
VERSION:2.0
PRODID:-//eventon.com NONSGML v1.0//EN
CALSCALE:GREGORIAN
METHOD:PUBLISH
BEGIN:VEVENT
UID:69eb5ab7c8a83
DTSTAMP:20260424T115743Z
DTSTART:20260606T230000Z
DTEND:20260607T013000Z
LOCATION:Seashell Stage 180 Ocean Boulevard
SUMMARY:Live Music on the Seashell Stage
DESCRIPTION:The Scott Spradling Band - Pop\,  Rock &amp; Jazz! Playing tune
 s from Chicago\, Billy Joel\,  Sinatra\,  Bublé\,  Elton John and more! Vo
 ted Best of New Hampshire 2023 and 2024 Citizen Band. Hampton Beach offers 
 nightly entertainment during the summer on our Seashell Stage. Come down an
 d get nostalgic with the music[..]\nhttps://hamptonbeach.org/event-listing/
 live-music-on-the-seashell-stage-7/
URL:https://hamptonbeach.org/event-listing/live-music-on-the-seashell-stage-7/
END:VEVENT
END:VCALENDAR