BEGIN:VCALENDAR
VERSION:2.0
PRODID:-//eventon.com NONSGML v1.0//EN
CALSCALE:GREGORIAN
METHOD:PUBLISH
BEGIN:VEVENT
UID:69ea09fa9577b
DTSTAMP:20260423T120058Z
DTSTART:20260526T230000Z
DTEND:20260527T013000Z
LOCATION:Seashell Stage 180 Ocean Boulevard
SUMMARY:Live Music on the Seashell Stage: Winnacunnet High School Chorus and Jazz Band
DESCRIPTION:Come enjoy a performance by the Winnacunnet High School Chorus 
 and Jazz Band tonight on the Seashell Stage. Hampton Beach offers nightly e
 ntertainment during the summer on our Seashell Stage. Come down and get nos
 talgic with the music of your generation\,  discover a new band\,  or take 
 a line dance[..]\nhttps://hamptonbeach.org/event-listing/live-music-on-the-
 seashell-stage-winnacunnet-high-school-chorus-and-jazz-band/
URL:https://hamptonbeach.org/event-listing/live-music-on-the-seashell-stage-winnacunnet-high-school-chorus-and-jazz-band/
END:VEVENT
END:VCALENDAR