BEGIN:VCALENDAR
VERSION:2.0
PRODID:-//eventon.com NONSGML v1.0//EN
CALSCALE:GREGORIAN
METHOD:PUBLISH
BEGIN:VEVENT
UID:69e5d6cae33d1
DTSTAMP:20260420T073330Z
DTSTART:20260810T195000Z
DTEND:20260810T235900Z
LOCATION:On the beach across from the Playground Route 1A\,  Hampton\,  NH\,  USA
SUMMARY:Monday Night Movies on the Beach
DESCRIPTION:Monday Night Movies on the Beach: HOW TO TRAIN YOUR DRAGON (Liv
 e Action) On the rugged isle of Berk\,  where Vikings and dragons have been
  bitter enemies for generations\,  Hiccup stands apart. The inventive yet o
 verlooked son of Chief Stoick the Vast Hiccup defies centuries of tradition
  when he befriends[..]\nhttps://hamptonbeach.org/event-listing/monday-night
 -movies-on-the-beach-lilo-stitch-copy/
URL:https://hamptonbeach.org/event-listing/monday-night-movies-on-the-beach-lilo-stitch-copy/
END:VEVENT
END:VCALENDAR