BEGIN:VCALENDAR
VERSION:2.0
PRODID:-//eventon.com NONSGML v1.0//EN
CALSCALE:GREGORIAN
METHOD:PUBLISH
BEGIN:VEVENT
UID:69e5d6da3f51d
DTSTAMP:20260420T073346Z
DTSTART:20260831T192000Z
DTEND:20260831T235900Z
LOCATION:On the beach across from the Playground Route 1A\,  Hampton\,  NH\,  USA
SUMMARY:Monday Night Movies on the Beach: The Super Mario Galaxy Movie
DESCRIPTION:Monday Night Movies on the Beach: THE SUPER MARIO GALAXY MOVIE 
 Mario\,  Luigi\,  Peach\,  and Toad traveling to outer space to battle Bows
 er Jr.\,  who seeks to free his shrunken father (Bowser) from imprisonment.
  Together with new ally Rosalina\,  the crew journeys through cosmic worlds
  to stop Bowser Jr. from[..]\nhttps://hamptonbeach.org/event-listing/monday
 -night-movie-on-the-beach-elio/
URL:https://hamptonbeach.org/event-listing/monday-night-movie-on-the-beach-elio/
END:VEVENT
END:VCALENDAR