BEGIN:VCALENDAR
VERSION:2.0
PRODID:-//eventon.com NONSGML v1.0//EN
CALSCALE:GREGORIAN
METHOD:PUBLISH
BEGIN:VEVENT
UID:69e5d6bb8a84f
DTSTAMP:20260420T073315Z
DTSTART:20260824T193000Z
DTEND:20260824T213000Z
LOCATION:On the beach across from the Playground Route 1A\,  Hampton\,  NH\,  USA
SUMMARY:Monday Night Movies on the Beach: HOPPERS
DESCRIPTION:Monday Night Movies on the Beach:HOPPERS Animal lover Mabel use
 s clever new technology designed to "hop" human consciousness into lifelike
  robotic animals to communicate with beavers\,  uncovering mysteries within
  the animal world beyond anything she could have imagined. Movie Trailer: h
 ttps://www.youtube.com/watch?v=PypDSyIRRSs Bring the kids to the beach to c
 atch a[..]\nhttps://hamptonbeach.org/event-listing/monday-night-movie-on-th
 e-beach-hoppers/
URL:https://hamptonbeach.org/event-listing/monday-night-movie-on-the-beach-hoppers/
END:VEVENT
END:VCALENDAR