BEGIN:VCALENDAR
VERSION:2.0
PRODID:-//eventon.com NONSGML v1.0//EN
CALSCALE:GREGORIAN
METHOD:PUBLISH
BEGIN:VEVENT
UID:69e5d89b9e5df
DTSTAMP:20260420T074115Z
DTSTART:20260817T194000Z
DTEND:20260817T235900Z
LOCATION:On the beach across from the Playground Route 1A\,  Hampton\,  NH\,  USA
SUMMARY:Monday Night Movies on the Beach: WICKED FOR GOOD
DESCRIPTION:Monday Night Movies on the Beach:WICKED FOR GOOD The epic concl
 usion to the untold story of the witches of Oz begins. Elphaba\,  demonized
  as The Wicked Witch of the West\,  lives in exile\,  fighting for truth. G
 linda\,  the symbol of Goodness\,  reigns in Emerald City. But when the ang
 ry citizens[..]\nhttps://hamptonbeach.org/event-listing/movie-how-to-train-
 your-dragon-live-action/
URL:https://hamptonbeach.org/event-listing/movie-how-to-train-your-dragon-live-action/
END:VEVENT
END:VCALENDAR