BEGIN:VCALENDAR
VERSION:2.0
PRODID:-//eventon.com NONSGML v1.0//EN
CALSCALE:GREGORIAN
METHOD:PUBLISH
BEGIN:VEVENT
UID:69e5d7a02402f
DTSTAMP:20260420T073704Z
DTSTART:20260803T200000Z
DTEND:20260803T235900Z
LOCATION:On the beach across from the Playground Route 1A\,  Hampton\,  NH\,  USA
SUMMARY:Monday Night Movies on the Beach: LILO & STITCH
DESCRIPTION:Monday Night Movies on the Beach: LILO &amp; STICH A live-actio
 n reimagining of Disney’s 2002 animated classic\,  “Lilo &amp; Stitch
  is the wildly funny and touching story of a lonely Hawaiian girl and the 
 fugitive alien who helps to mend her broken family. Movie Trailer: https://
 www.youtube.com/watch?v=VWqJifMMgZE Bring the kids to[..]\nhttps://hamptonb
 each.org/event-listing/monday-night-movies-on-the-beach-lilo-stitch/
URL:https://hamptonbeach.org/event-listing/monday-night-movies-on-the-beach-lilo-stitch/
END:VEVENT
END:VCALENDAR