BEGIN:VCALENDAR
VERSION:2.0
PRODID:-//eventon.com NONSGML v1.0//EN
CALSCALE:GREGORIAN
METHOD:PUBLISH
BEGIN:VEVENT
UID:69e5264be2484
DTSTAMP:20260419T190027Z
DTSTART:20250729T000500Z
DTEND:20250729T035900Z
LOCATION:On the beach across from the Playground Route 1A\,  Hampton\,  NH\,  USA
SUMMARY:Monday Night Movies on the Beach!
DESCRIPTION:Fun Family Entertainment. All for Free! An evening under the st
 ars on our 5 star beach. Weather permitting. Movies are subject to change b
 ut will be announced on our Facebook page. Movies held on the beach near th
 e Playground. Make summer memories with your family at our Monday Night Mov
 ie[..]\nhttps://hamptonbeach.org/event-listing/monday-night-movies-on-the-b
 each-42/
URL:https://hamptonbeach.org/event-listing/monday-night-movies-on-the-beach-42/
END:VEVENT
END:VCALENDAR