BEGIN:VCALENDAR
VERSION:2.0
PRODID:-//eventon.com NONSGML v1.0//EN
CALSCALE:GREGORIAN
METHOD:PUBLISH
BEGIN:VEVENT
UID:69e5a3404d036
DTSTAMP:20260420T035336Z
DTSTART:20230814T234500Z
DTEND:20230815T035000Z
LOCATION:On the beach across from the Playground Route 1A\,  Hampton\,  NH\,  USA
SUMMARY:Monday Night Movies on the Beach!
DESCRIPTION:Fun Family Entertainment. All for Free! An evening under the st
 ars on our 5 star beach. Weather permitting. Movies held on the beach near 
 the Playground. Make summer memories with your family at our Monday Night M
 ovie on the Beach! Movies begin at dusk. Rain date: Tuesday Start times var
 y[..]\nhttps://hamptonbeach.org/event-listing/monday-night-movies-on-the-be
 ach-38/
URL:https://hamptonbeach.org/event-listing/monday-night-movies-on-the-beach-38/
END:VEVENT
END:VCALENDAR