BEGIN:VCALENDAR
VERSION:2.0
PRODID:-//eventon.com NONSGML v1.0//EN
CALSCALE:GREGORIAN
METHOD:PUBLISH
BEGIN:VEVENT
UID:69ea9a37d51cc
DTSTAMP:20260423T221623Z
DTSTART:20210817
DTEND:20210818
LOCATION:Seashell Stage 180 Ocean Boulevard
SUMMARY:Children's Week
DESCRIPTION:The Annual Hampton Beach Children’s Festival is the family fu
 n event of the summer\,  kicking off on Monday\,  August 16th with a magic 
 show by BJ Hickman on the famous Hampton Beach Seashell Stage at 10 a.m.\, 
  and building up to a Giant Costume Parade that marches almost the length[.
 .]\nhttps://hamptonbeach.org/event-listing/childrens-week-11/
URL:https://hamptonbeach.org/event-listing/childrens-week-11/
END:VEVENT
END:VCALENDAR