BEGIN:VCALENDAR
VERSION:2.0
PRODID:-//eventon.com NONSGML v1.0//EN
CALSCALE:GREGORIAN
METHOD:PUBLISH
BEGIN:VEVENT
UID:69e5a2e17ea3d
DTSTAMP:20260420T035201Z
DTSTART:20210818
DTEND:20210819
LOCATION:Seashell Stage 180 Ocean Boulevard
SUMMARY:Children's Week
DESCRIPTION:The Annual Hampton Beach Children’s Festival is the family fu
 n event of the summer\,  kicking off on Monday\,  August 16th with a magic 
 show by BJ Hickman on the famous Hampton Beach Seashell Stage at 10 a.m.\, 
  and building up to a Giant Costume Parade that marches almost the length[.
 .]\nhttps://hamptonbeach.org/event-listing/childrens-week-10/
URL:https://hamptonbeach.org/event-listing/childrens-week-10/
END:VEVENT
END:VCALENDAR